BEGIN:VCALENDAR
VERSION:2.0
PRODID:-//217.160.0.163//NONSGML kigkonsult.se iCalcreator 2.20//
CALSCALE:GREGORIAN
METHOD:PUBLISH
X-WR-TIMEZONE:Europe/Berlin
BEGIN:VEVENT
UID:event21@Segel-Club Freia e.V. am Tegeler See, Berlin
DTSTAMP:20260424T164957Z
CATEGORIES:Club Events
DESCRIPTION:Aufslippen\nKategorie: Club Events\nICS-Link: https://www.sc-fr
 eia.de/index.php?option=com_jem&view=event&id=21:aufslippen\n
DTSTART;TZID=Europe/Berlin:20261031T074500
DTEND;TZID=Europe/Berlin:20261031T150000
SUMMARY:Aufslippen
URL:https://www.sc-freia.de/index.php?option=com_jem&view=event&id=21:aufsl
 ippen
END:VEVENT
END:VCALENDAR